BEGIN:VCALENDAR
VERSION:2.0
PRODID:-//Solar Home - ECPv4.6.3//NONSGML v1.0//EN
CALSCALE:GREGORIAN
METHOD:PUBLISH
X-WR-CALNAME:Solar Home
X-ORIGINAL-URL:http://solarhome.ie
X-WR-CALDESC:Events for Solar Home
BEGIN:VEVENT
DTSTART;TZID=UTC+0:20161020T080000
DTEND;TZID=UTC+0:20161231T170000
DTSTAMP:20171108T004513
CREATED:20160923T112450Z
LAST-MODIFIED:20160923T112450Z
UID:662-1476950400-1483203600@solarhome.ie
SUMMARY:$159  Fall Savings!
DESCRIPTION:May be applied to your next Service Call\, Heating Maintenance or Repair.\nMention this offer when you call to schedule your appointment.\n
URL:http://solarhome.ie/special-offer/winter-filters-cleaning/
LOCATION:NY\, United States
CATEGORIES:Special Offers
END:VEVENT
END:VCALENDAR