BEGIN:VCALENDAR
VERSION:2.0
PRODID:-//Solar Home - ECPv4.6.3//NONSGML v1.0//EN
CALSCALE:GREGORIAN
METHOD:PUBLISH
X-WR-CALNAME:Solar Home
X-ORIGINAL-URL:http://solarhome.ie
X-WR-CALDESC:Events for Solar Home
BEGIN:VEVENT
DTSTART;VALUE=DATE:20171031
DTEND;VALUE=DATE:20180101
DTSTAMP:20171108T004123
CREATED:20171006T130210Z
LAST-MODIFIED:20171006T130210Z
UID:2356-1509408000-1514764799@solarhome.ie
SUMMARY:New Central Unit
DESCRIPTION:It’s time to install the New Central A/C Unit of your dreams! \nFree 5 years parts and labor warranty with purchase 299$ Value! \n
URL:http://solarhome.ie/special-offer/new-central-unit/
CATEGORIES:Special Offers
ATTACH;FMTTYPE=image/jpeg:http://solarhome.ie/wp-content/uploads/2013/06/ductless.jpg
END:VEVENT
END:VCALENDAR