BEGIN:VCALENDAR
VERSION:2.0
PRODID:-//Solar Home - ECPv4.6.3//NONSGML v1.0//EN
CALSCALE:GREGORIAN
METHOD:PUBLISH
X-WR-CALNAME:Solar Home
X-ORIGINAL-URL:http://solarhome.ie
X-WR-CALDESC:Events for Solar Home
BEGIN:VEVENT
DTSTART;VALUE=DATE:20170901
DTEND;VALUE=DATE:20171201
DTSTAMP:20171108T004044
CREATED:20171006T131137Z
LAST-MODIFIED:20171026T002931Z
UID:2358-1504224000-1512086399@solarhome.ie
SUMMARY:Complete Winter  Check UP!
DESCRIPTION:Winter is just around the corner and the best way to insure your Solar Panel system keeps you and your family comfortable this winter is to make an appointment for our autumn maintenance check. \n
URL:http://solarhome.ie/special-offer/complete-winter-check-up/
CATEGORIES:Special Offers
END:VEVENT
END:VCALENDAR